BEGIN:VCALENDAR
VERSION:2.0
PRODID:-//The Crafty Nest DIY Kids - ECPv5.8.1//NONSGML v1.0//EN
CALSCALE:GREGORIAN
METHOD:PUBLISH
X-WR-CALNAME:The Crafty Nest DIY Kids
X-ORIGINAL-URL:http://kids.thecraftynestdiy.com
X-WR-CALDESC:Events for The Crafty Nest DIY Kids
BEGIN:VTIMEZONE
TZID:UTC
BEGIN:STANDARD
TZOFFSETFROM:+0000
TZOFFSETTO:+0000
TZNAME:UTC
DTSTART:20230101T000000
END:STANDARD
END:VTIMEZONE
BEGIN:VEVENT
DTSTART;TZID=UTC:20230913T160000
DTEND;TZID=UTC:20230913T173000
DTSTAMP:20260423T213350
CREATED:20230825T185325Z
LAST-MODIFIED:20230825T185325Z
UID:6262-1694620800-1694626200@kids.thecraftynestdiy.com
SUMMARY:Kid's Krafternoon (Drop off - Ages 6+)
DESCRIPTION:Drop your kids off for an afternoon of crafting fun making a halloween sign! \nDrop your child off for a fun afternoon of crafting! They will make this this geometric pumpkin sign!  \nAges 6+
URL:http://kids.thecraftynestdiy.com/event/kids-krafternoon-drop-off-ages-6/
LOCATION:The Crafty Nest Booked\, 116 Church Street\, Whitinsville\, 01588\, United States
ATTACH;FMTTYPE=image/jpeg:http://kids.thecraftynestdiy.com/wp-content/uploads/sites/2/2023/08/September-Kids-Krafternoon.jpg
END:VEVENT
END:VCALENDAR