BEGIN:VCALENDAR
VERSION:2.0
PRODID:-//The Crafty Nest DIY Kids - ECPv5.8.1//NONSGML v1.0//EN
CALSCALE:GREGORIAN
METHOD:PUBLISH
X-WR-CALNAME:The Crafty Nest DIY Kids
X-ORIGINAL-URL:http://kids.thecraftynestdiy.com
X-WR-CALDESC:Events for The Crafty Nest DIY Kids
BEGIN:VTIMEZONE
TZID:UTC
BEGIN:STANDARD
TZOFFSETFROM:+0000
TZOFFSETTO:+0000
TZNAME:UTC
DTSTART:20230101T000000
END:STANDARD
END:VTIMEZONE
BEGIN:VEVENT
DTSTART;TZID=UTC:20230924T140000
DTEND;TZID=UTC:20230924T160000
DTSTAMP:20260423T090306
CREATED:20230829T022349Z
LAST-MODIFIED:20230829T022349Z
UID:6291-1695564000-1695571200@kids.thecraftynestdiy.com
SUMMARY:Available for Birthday Party 2-4
DESCRIPTION:Book your party here \nBirthday Parties
URL:http://kids.thecraftynestdiy.com/event/available-for-birthday-party-2-4-7/
LOCATION:The Crafty Nest Available\, 116 Church St\, Whitinsvile\, MA\, 01588\, United States
END:VEVENT
END:VCALENDAR