BEGIN:VCALENDAR
VERSION:2.0
PRODID:-//The Crafty Nest DIY Kids - ECPv5.8.1//NONSGML v1.0//EN
CALSCALE:GREGORIAN
METHOD:PUBLISH
X-WR-CALNAME:The Crafty Nest DIY Kids
X-ORIGINAL-URL:http://kids.thecraftynestdiy.com
X-WR-CALDESC:Events for The Crafty Nest DIY Kids
BEGIN:VTIMEZONE
TZID:UTC
BEGIN:STANDARD
TZOFFSETFROM:+0000
TZOFFSETTO:+0000
TZNAME:UTC
DTSTART:20240101T000000
END:STANDARD
END:VTIMEZONE
BEGIN:VEVENT
DTSTART;TZID=UTC:20241214T140000
DTEND;TZID=UTC:20241214T170000
DTSTAMP:20260420T231323
CREATED:20240910T204952Z
LAST-MODIFIED:20241029T135319Z
UID:6903-1734184800-1734195600@kids.thecraftynestdiy.com
SUMMARY:RESERVED for Adult Event 2-4
DESCRIPTION:
URL:http://kids.thecraftynestdiy.com/event/available-for-b-day-2-4-82/
LOCATION:The Crafty Nest Booked\, 116 Church Street\, Whitinsville\, 01588\, United States
END:VEVENT
END:VCALENDAR