BEGIN:VCALENDAR
VERSION:2.0
PRODID:-//The Crafty Nest DIY Kids - ECPv5.8.1//NONSGML v1.0//EN
CALSCALE:GREGORIAN
METHOD:PUBLISH
X-WR-CALNAME:The Crafty Nest DIY Kids
X-ORIGINAL-URL:http://kids.thecraftynestdiy.com
X-WR-CALDESC:Events for The Crafty Nest DIY Kids
BEGIN:VTIMEZONE
TZID:UTC
BEGIN:STANDARD
TZOFFSETFROM:+0000
TZOFFSETTO:+0000
TZNAME:UTC
DTSTART:20250101T000000
END:STANDARD
END:VTIMEZONE
BEGIN:VEVENT
DTSTART;TZID=UTC:20250426T110000
DTEND;TZID=UTC:20250426T130000
DTSTAMP:20260421T222610
CREATED:20250226T173011Z
LAST-MODIFIED:20250226T173011Z
UID:7094-1745665200-1745672400@kids.thecraftynestdiy.com
SUMMARY:Available for B-Day 11-1
DESCRIPTION:book your party here \nBirthday Parties
URL:http://kids.thecraftynestdiy.com/event/available-for-b-day-11-1-110/
LOCATION:The Crafty Nest Available\, 116 Church St\, Whitinsvile\, MA\, 01588\, United States
END:VEVENT
BEGIN:VEVENT
DTSTART;TZID=UTC:20250426T140000
DTEND;TZID=UTC:20250426T160000
DTSTAMP:20260421T222610
CREATED:20250226T173050Z
LAST-MODIFIED:20250226T173050Z
UID:7096-1745676000-1745683200@kids.thecraftynestdiy.com
SUMMARY:Available for B-Day 2-4
DESCRIPTION:book your party here \nBirthday Parties
URL:http://kids.thecraftynestdiy.com/event/available-for-b-day-2-4-108/
LOCATION:The Crafty Nest Available\, 116 Church St\, Whitinsvile\, MA\, 01588\, United States
END:VEVENT
END:VCALENDAR