BEGIN:VCALENDAR
VERSION:2.0
PRODID:-//The Crafty Nest DIY Kids - ECPv5.8.1//NONSGML v1.0//EN
CALSCALE:GREGORIAN
METHOD:PUBLISH
X-WR-CALNAME:The Crafty Nest DIY Kids
X-ORIGINAL-URL:http://kids.thecraftynestdiy.com
X-WR-CALDESC:Events for The Crafty Nest DIY Kids
BEGIN:VTIMEZONE
TZID:UTC
BEGIN:STANDARD
TZOFFSETFROM:+0000
TZOFFSETTO:+0000
TZNAME:UTC
DTSTART:20240101T000000
END:STANDARD
END:VTIMEZONE
BEGIN:VEVENT
DTSTART;TZID=UTC:20241109T110000
DTEND;TZID=UTC:20241109T130000
DTSTAMP:20260422T063406
CREATED:20240829T164136Z
LAST-MODIFIED:20240829T164136Z
UID:6861-1731150000-1731157200@kids.thecraftynestdiy.com
SUMMARY:Available for B-Day 11-1
DESCRIPTION:Book your party here \nBirthday Parties
URL:http://kids.thecraftynestdiy.com/event/available-for-b-day-11-1-73/
LOCATION:The Crafty Nest Available\, 116 Church St\, Whitinsvile\, MA\, 01588\, United States
END:VEVENT
BEGIN:VEVENT
DTSTART;TZID=UTC:20241109T140000
DTEND;TZID=UTC:20241109T160000
DTSTAMP:20260422T063406
CREATED:20240829T164215Z
LAST-MODIFIED:20240910T195930Z
UID:6863-1731160800-1731168000@kids.thecraftynestdiy.com
SUMMARY:RESERVED for B-Day 2-4
DESCRIPTION:Book your party here \nBirthday Parties
URL:http://kids.thecraftynestdiy.com/event/available-for-b-day-2-4-75/
LOCATION:The Crafty Nest Booked\, 116 Church Street\, Whitinsville\, 01588\, United States
END:VEVENT
END:VCALENDAR