BEGIN:VCALENDAR
VERSION:2.0
PRODID:-//The Crafty Nest DIY Kids - ECPv5.8.1//NONSGML v1.0//EN
CALSCALE:GREGORIAN
METHOD:PUBLISH
X-WR-CALNAME:The Crafty Nest DIY Kids
X-ORIGINAL-URL:http://kids.thecraftynestdiy.com
X-WR-CALDESC:Events for The Crafty Nest DIY Kids
BEGIN:VTIMEZONE
TZID:UTC
BEGIN:STANDARD
TZOFFSETFROM:+0000
TZOFFSETTO:+0000
TZNAME:UTC
DTSTART:20240101T000000
END:STANDARD
END:VTIMEZONE
BEGIN:VEVENT
DTSTART;TZID=UTC:20240616T080000
DTEND;TZID=UTC:20240616T170000
DTSTAMP:20260422T141444
CREATED:20240426T174329Z
LAST-MODIFIED:20240426T174404Z
UID:6668-1718524800-1718557200@kids.thecraftynestdiy.com
SUMMARY:NOT AVAILABlE FOR BIRTHDAYS PARTIES
DESCRIPTION:
URL:http://kids.thecraftynestdiy.com/event/not-available-for-birthdays/
LOCATION:The Crafty Nest Available\, 116 Church St\, Whitinsvile\, MA\, 01588\, United States
END:VEVENT
END:VCALENDAR