BEGIN:VCALENDAR
VERSION:2.0
PRODID:-//The Crafty Nest DIY Kids - ECPv5.8.1//NONSGML v1.0//EN
CALSCALE:GREGORIAN
METHOD:PUBLISH
X-WR-CALNAME:The Crafty Nest DIY Kids
X-ORIGINAL-URL:http://kids.thecraftynestdiy.com
X-WR-CALDESC:Events for The Crafty Nest DIY Kids
BEGIN:VTIMEZONE
TZID:UTC
BEGIN:STANDARD
TZOFFSETFROM:+0000
TZOFFSETTO:+0000
TZNAME:UTC
DTSTART:20240101T000000
END:STANDARD
END:VTIMEZONE
BEGIN:VEVENT
DTSTART;TZID=UTC:20240615T080000
DTEND;TZID=UTC:20240615T170000
DTSTAMP:20260422T141158
CREATED:20240426T174220Z
LAST-MODIFIED:20240426T174357Z
UID:6666-1718438400-1718470800@kids.thecraftynestdiy.com
SUMMARY:NOT AVAILABLE FOR BIRTHDAYS PARTIES
DESCRIPTION:
URL:http://kids.thecraftynestdiy.com/event/not-available-for-parties/
END:VEVENT
END:VCALENDAR