BEGIN:VCALENDAR
VERSION:2.0
PRODID:-//The Crafty Nest DIY Kids - ECPv5.8.1//NONSGML v1.0//EN
CALSCALE:GREGORIAN
METHOD:PUBLISH
X-WR-CALNAME:The Crafty Nest DIY Kids
X-ORIGINAL-URL:http://kids.thecraftynestdiy.com
X-WR-CALDESC:Events for The Crafty Nest DIY Kids
BEGIN:VTIMEZONE
TZID:UTC
BEGIN:STANDARD
TZOFFSETFROM:+0000
TZOFFSETTO:+0000
TZNAME:UTC
DTSTART:20240101T000000
END:STANDARD
END:VTIMEZONE
BEGIN:VEVENT
DTSTART;TZID=UTC:20240602T110000
DTEND;TZID=UTC:20240602T130000
DTSTAMP:20260422T140312
CREATED:20240426T173646Z
LAST-MODIFIED:20240426T173646Z
UID:6654-1717326000-1717333200@kids.thecraftynestdiy.com
SUMMARY:Available for B-Day 11-1
DESCRIPTION:Book your birthday here \nBirthday Parties
URL:http://kids.thecraftynestdiy.com/event/available-for-b-day-11-1-34/
LOCATION:The Crafty Nest Available\, 116 Church St\, Whitinsvile\, MA\, 01588\, United States
END:VEVENT
BEGIN:VEVENT
DTSTART;TZID=UTC:20240602T140000
DTEND;TZID=UTC:20240602T160000
DTSTAMP:20260422T140312
CREATED:20240426T173718Z
LAST-MODIFIED:20240426T173718Z
UID:6656-1717336800-1717344000@kids.thecraftynestdiy.com
SUMMARY:Available for B-Day 2-4
DESCRIPTION:Book your birthday here \nBirthday Parties
URL:http://kids.thecraftynestdiy.com/event/available-for-b-day-2-4-37/
LOCATION:The Crafty Nest Available\, 116 Church St\, Whitinsvile\, MA\, 01588\, United States
END:VEVENT
END:VCALENDAR