BEGIN:VCALENDAR
VERSION:2.0
PRODID:-//The Crafty Nest DIY Kids - ECPv5.8.1//NONSGML v1.0//EN
CALSCALE:GREGORIAN
METHOD:PUBLISH
X-WR-CALNAME:The Crafty Nest DIY Kids
X-ORIGINAL-URL:http://kids.thecraftynestdiy.com
X-WR-CALDESC:Events for The Crafty Nest DIY Kids
BEGIN:VTIMEZONE
TZID:UTC
BEGIN:STANDARD
TZOFFSETFROM:+0000
TZOFFSETTO:+0000
TZNAME:UTC
DTSTART:20240101T000000
END:STANDARD
END:VTIMEZONE
BEGIN:VEVENT
DTSTART;TZID=UTC:20240511T110000
DTEND;TZID=UTC:20240511T130000
DTSTAMP:20260424T103126
CREATED:20240426T172430Z
LAST-MODIFIED:20240426T172430Z
UID:6627-1715425200-1715432400@kids.thecraftynestdiy.com
SUMMARY:RESERVED for B-Day 11-1
DESCRIPTION:
URL:http://kids.thecraftynestdiy.com/event/reserved-for-b-day-11-1/
LOCATION:The Crafty Nest Booked\, 116 Church Street\, Whitinsville\, 01588\, United States
END:VEVENT
BEGIN:VEVENT
DTSTART;TZID=UTC:20240511T140000
DTEND;TZID=UTC:20240511T160000
DTSTAMP:20260424T103126
CREATED:20240426T172308Z
LAST-MODIFIED:20240426T172509Z
UID:6625-1715436000-1715443200@kids.thecraftynestdiy.com
SUMMARY:Available for B-Day 2-4
DESCRIPTION:Book your birthday here \nBirthday Parties
URL:http://kids.thecraftynestdiy.com/event/available-for-b-day-11-1-27/
LOCATION:The Crafty Nest Available\, 116 Church St\, Whitinsvile\, MA\, 01588\, United States
END:VEVENT
END:VCALENDAR