BEGIN:VCALENDAR
VERSION:2.0
PRODID:-//The Crafty Nest DIY Kids - ECPv5.8.1//NONSGML v1.0//EN
CALSCALE:GREGORIAN
METHOD:PUBLISH
X-WR-CALNAME:The Crafty Nest DIY Kids
X-ORIGINAL-URL:http://kids.thecraftynestdiy.com
X-WR-CALDESC:Events for The Crafty Nest DIY Kids
BEGIN:VTIMEZONE
TZID:UTC
BEGIN:STANDARD
TZOFFSETFROM:+0000
TZOFFSETTO:+0000
TZNAME:UTC
DTSTART:20240101T000000
END:STANDARD
END:VTIMEZONE
BEGIN:VEVENT
DTSTART;TZID=UTC:20240324T110000
DTEND;TZID=UTC:20240324T130000
DTSTAMP:20260424T132852
CREATED:20240112T192828Z
LAST-MODIFIED:20240112T192828Z
UID:6550-1711278000-1711285200@kids.thecraftynestdiy.com
SUMMARY:Available for B-Day 11-1
DESCRIPTION:Book your party here \nBirthday Parties
URL:http://kids.thecraftynestdiy.com/event/available-for-b-day-11-1-15/
LOCATION:The Crafty Nest Available\, 116 Church St\, Whitinsvile\, MA\, 01588\, United States
END:VEVENT
BEGIN:VEVENT
DTSTART;TZID=UTC:20240324T140000
DTEND;TZID=UTC:20240324T160000
DTSTAMP:20260424T132852
CREATED:20240112T192858Z
LAST-MODIFIED:20240112T192858Z
UID:6552-1711288800-1711296000@kids.thecraftynestdiy.com
SUMMARY:Available for B-Day 2-4
DESCRIPTION:Book your party here \nBirthday Parties
URL:http://kids.thecraftynestdiy.com/event/available-for-b-day-2-4-18/
LOCATION:The Crafty Nest Available\, 116 Church St\, Whitinsvile\, MA\, 01588\, United States
END:VEVENT
END:VCALENDAR