BEGIN:VCALENDAR
VERSION:2.0
PRODID:-//The Crafty Nest DIY Kids - ECPv5.8.1//NONSGML v1.0//EN
CALSCALE:GREGORIAN
METHOD:PUBLISH
X-WR-CALNAME:The Crafty Nest DIY Kids
X-ORIGINAL-URL:http://kids.thecraftynestdiy.com
X-WR-CALDESC:Events for The Crafty Nest DIY Kids
BEGIN:VTIMEZONE
TZID:UTC
BEGIN:STANDARD
TZOFFSETFROM:+0000
TZOFFSETTO:+0000
TZNAME:UTC
DTSTART:20240101T000000
END:STANDARD
END:VTIMEZONE
BEGIN:VEVENT
DTSTART;TZID=UTC:20240307T160000
DTEND;TZID=UTC:20240307T173000
DTSTAMP:20260424T132823
CREATED:20240118T142058Z
LAST-MODIFIED:20240129T210354Z
UID:6566-1709827200-1709832600@kids.thecraftynestdiy.com
SUMMARY:Kid's Krafternoon Public Workshop
DESCRIPTION:Drop your kids off for an afternoon of crafting fun making this Leprechaun Sign. \nAges 6+Registration closes Feb. 29th.
URL:http://kids.thecraftynestdiy.com/event/kids-krafternoon-public-workshop/
LOCATION:The Crafty Nest Available\, 116 Church St\, Whitinsvile\, MA\, 01588\, United States
ATTACH;FMTTYPE=image/jpeg:http://kids.thecraftynestdiy.com/wp-content/uploads/sites/2/2024/01/March-Krafternoon-Flyer.jpg
END:VEVENT
END:VCALENDAR